BEGIN:VCALENDAR
VERSION:2.0
PRODID:-//Vintage Flying Museum - ECPv6.15.20//NONSGML v1.0//EN
CALSCALE:GREGORIAN
METHOD:PUBLISH
X-ORIGINAL-URL:https://vintageflyingmuseum.org
X-WR-CALDESC:Events for Vintage Flying Museum
REFRESH-INTERVAL;VALUE=DURATION:PT1H
X-Robots-Tag:noindex
X-PUBLISHED-TTL:PT1H
BEGIN:VTIMEZONE
TZID:America/Chicago
BEGIN:DAYLIGHT
TZOFFSETFROM:-0600
TZOFFSETTO:-0500
TZNAME:CDT
DTSTART:20250309T080000
END:DAYLIGHT
BEGIN:STANDARD
TZOFFSETFROM:-0500
TZOFFSETTO:-0600
TZNAME:CST
DTSTART:20251102T070000
END:STANDARD
BEGIN:DAYLIGHT
TZOFFSETFROM:-0600
TZOFFSETTO:-0500
TZNAME:CDT
DTSTART:20260308T080000
END:DAYLIGHT
BEGIN:STANDARD
TZOFFSETFROM:-0500
TZOFFSETTO:-0600
TZNAME:CST
DTSTART:20261101T070000
END:STANDARD
BEGIN:DAYLIGHT
TZOFFSETFROM:-0600
TZOFFSETTO:-0500
TZNAME:CDT
DTSTART:20270314T080000
END:DAYLIGHT
BEGIN:STANDARD
TZOFFSETFROM:-0500
TZOFFSETTO:-0600
TZNAME:CST
DTSTART:20271107T070000
END:STANDARD
END:VTIMEZONE
BEGIN:VEVENT
DTSTART;VALUE=DATE:20260123
DTEND;VALUE=DATE:20260126
DTSTAMP:20260421T151912
CREATED:20260123T020233Z
LAST-MODIFIED:20260123T020234Z
UID:1608-1769126400-1769385599@vintageflyingmuseum.org
SUMMARY:Museum Closed – Winter Storm (23-25 January)
DESCRIPTION:Due to the winter storm that will be impacting Texas\, the museum will be closed this weekend
URL:https://vintageflyingmuseum.org/event/museum-closed-winter-storm-23-25-january/
LOCATION:Vintage Flying Museum\, 505 NW 38th Street Hangar 33 South\, Fort Worth\, TX\, 76106\, United States
END:VEVENT
BEGIN:VEVENT
DTSTART;TZID=America/Chicago:20260214T100000
DTEND;TZID=America/Chicago:20260214T120000
DTSTAMP:20260421T151912
CREATED:20260207T185548Z
LAST-MODIFIED:20260207T185548Z
UID:1611-1771063200-1771070400@vintageflyingmuseum.org
SUMMARY:Rosie Garden Day
DESCRIPTION:Join us on Valentine’s Day to show some love to the Rosie Garden! \nWe will be pruning roses and cleaning garden beds in preparation for Rosie the Riveter Day on March 21st. You don’t have to have garden experience to help just a desire to lend a helping hand! \nLight refreshments will be provided for volunteers. \nCome have a fun morning in the garden and learn more about how you can get involved. \n*Garden day will be subject to weather. \n  \n 
URL:https://vintageflyingmuseum.org/event/rosie-garden-day/
LOCATION:Vintage Flying Museum\, 505 NW 38th Street Hangar 33 South\, Fort Worth\, TX\, 76106\, United States
ORGANIZER;CN="VFM Events Organizer":MAILTO:events@vintageflyingmuseum.org
END:VEVENT
BEGIN:VEVENT
DTSTART;TZID=America/Chicago:20260328T080000
DTEND;TZID=America/Chicago:20260328T110000
DTSTAMP:20260421T151912
CREATED:20260120T010837Z
LAST-MODIFIED:20260323T025651Z
UID:1590-1774684800-1774695600@vintageflyingmuseum.org
SUMMARY:Pancake Fly-In | March 2026
DESCRIPTION:Pancake Fly-In\n\nVintage Flying Museum\n505 NW 38th Street Hangar 33 South Fort Worth\, TX 76106\nMarch 28th\, 2026\n8:00 – 11:00 AM Central\nCome out for free pancakes at the museum!\nFly in or drive in!\nMuseum admission is FREE during pancake time!\nFacebook Event Invite Link\nCoffee Sponsored by Iron Soldiers Coffee Company\n\nRides on a Bell 206 will be available through Fort Worth Helicopters! \n \nOnline booking system is now live at http://www.fortworthhelicopters.com\nGreat opportunity to meet with friends\, see some warbirds\, see what flies in\, and have some pancakes and coffee!\nAirport: KFTW\nIf flying in\, ask for directions to the Vintage Flying Museum\, taxiway M. The big yellow hangar!
URL:https://vintageflyingmuseum.org/event/pancake-fly-in-march-2026/
LOCATION:Vintage Flying Museum\, 505 NW 38th Street Hangar 33 South\, Fort Worth\, TX\, 76106\, United States
CATEGORIES:PancakeFlyIn
ORGANIZER;CN="VFM Events Organizer":MAILTO:events@vintageflyingmuseum.org
END:VEVENT
BEGIN:VEVENT
DTSTART;TZID=America/Chicago:20260425T090000
DTEND;TZID=America/Chicago:20260425T170000
DTSTAMP:20260421T151912
CREATED:20260217T041447Z
LAST-MODIFIED:20260315T015508Z
UID:1614-1777107600-1777136400@vintageflyingmuseum.org
SUMMARY:Warbird Ride Day | April 2026
DESCRIPTION:CAF Airpower History Tour comes to VFM! WWII aircraft flight experiences will be available!\n\nOne of two flying B-29’s “FIFI”\nThe only flying B-24A “Diamond Lil”\nPT-17 Stearman\nAT-6 Texan “Nella”\n\nADMISSION:Adult: $12Senior Citizens: $10Teens: $10Children 6-12: $7Children Under 6: FreePhoto Pit: $20Parking: FreeFood Truck will be on-site\nTo Purchase Rides\, go to airpowersquadron.org/fortworth-tx\nRides on a Bell 206 will be available through Fort Worth Helicopters!
URL:https://vintageflyingmuseum.org/event/warbird-ride-day-april-2026/
LOCATION:Vintage Flying Museum\, 505 NW 38th Street Hangar 33 South\, Fort Worth\, TX\, 76106\, United States
ORGANIZER;CN="VFM Events Organizer":MAILTO:events@vintageflyingmuseum.org
END:VEVENT
END:VCALENDAR