BEGIN:VCALENDAR
VERSION:2.0
PRODID:-//Vintage Flying Museum - ECPv6.15.20//NONSGML v1.0//EN
CALSCALE:GREGORIAN
METHOD:PUBLISH
X-WR-CALNAME:Vintage Flying Museum
X-ORIGINAL-URL:https://vintageflyingmuseum.org
X-WR-CALDESC:Events for Vintage Flying Museum
REFRESH-INTERVAL;VALUE=DURATION:PT1H
X-Robots-Tag:noindex
X-PUBLISHED-TTL:PT1H
BEGIN:VTIMEZONE
TZID:America/Chicago
BEGIN:DAYLIGHT
TZOFFSETFROM:-0600
TZOFFSETTO:-0500
TZNAME:CDT
DTSTART:20240310T080000
END:DAYLIGHT
BEGIN:STANDARD
TZOFFSETFROM:-0500
TZOFFSETTO:-0600
TZNAME:CST
DTSTART:20241103T070000
END:STANDARD
BEGIN:DAYLIGHT
TZOFFSETFROM:-0600
TZOFFSETTO:-0500
TZNAME:CDT
DTSTART:20250309T080000
END:DAYLIGHT
BEGIN:STANDARD
TZOFFSETFROM:-0500
TZOFFSETTO:-0600
TZNAME:CST
DTSTART:20251102T070000
END:STANDARD
BEGIN:DAYLIGHT
TZOFFSETFROM:-0600
TZOFFSETTO:-0500
TZNAME:CDT
DTSTART:20260308T080000
END:DAYLIGHT
BEGIN:STANDARD
TZOFFSETFROM:-0500
TZOFFSETTO:-0600
TZNAME:CST
DTSTART:20261101T070000
END:STANDARD
BEGIN:DAYLIGHT
TZOFFSETFROM:-0600
TZOFFSETTO:-0500
TZNAME:CDT
DTSTART:20270314T080000
END:DAYLIGHT
BEGIN:STANDARD
TZOFFSETFROM:-0500
TZOFFSETTO:-0600
TZNAME:CST
DTSTART:20271107T070000
END:STANDARD
END:VTIMEZONE
BEGIN:VEVENT
DTSTART;TZID=America/Chicago:20260328T080000
DTEND;TZID=America/Chicago:20260328T110000
DTSTAMP:20260421T175121
CREATED:20260120T010837Z
LAST-MODIFIED:20260323T025651Z
UID:1590-1774684800-1774695600@vintageflyingmuseum.org
SUMMARY:Pancake Fly-In | March 2026
DESCRIPTION:Pancake Fly-In\n\nVintage Flying Museum\n505 NW 38th Street Hangar 33 South Fort Worth\, TX 76106\nMarch 28th\, 2026\n8:00 – 11:00 AM Central\nCome out for free pancakes at the museum!\nFly in or drive in!\nMuseum admission is FREE during pancake time!\nFacebook Event Invite Link\nCoffee Sponsored by Iron Soldiers Coffee Company\n\nRides on a Bell 206 will be available through Fort Worth Helicopters! \n \nOnline booking system is now live at http://www.fortworthhelicopters.com\nGreat opportunity to meet with friends\, see some warbirds\, see what flies in\, and have some pancakes and coffee!\nAirport: KFTW\nIf flying in\, ask for directions to the Vintage Flying Museum\, taxiway M. The big yellow hangar!
URL:https://vintageflyingmuseum.org/event/pancake-fly-in-march-2026/
LOCATION:Vintage Flying Museum\, 505 NW 38th Street Hangar 33 South\, Fort Worth\, TX\, 76106\, United States
CATEGORIES:PancakeFlyIn
ORGANIZER;CN="VFM Events Organizer":MAILTO:events@vintageflyingmuseum.org
END:VEVENT
BEGIN:VEVENT
DTSTART;TZID=America/Chicago:20260214T100000
DTEND;TZID=America/Chicago:20260214T120000
DTSTAMP:20260421T175121
CREATED:20260207T185548Z
LAST-MODIFIED:20260207T185548Z
UID:1611-1771063200-1771070400@vintageflyingmuseum.org
SUMMARY:Rosie Garden Day
DESCRIPTION:Join us on Valentine’s Day to show some love to the Rosie Garden! \nWe will be pruning roses and cleaning garden beds in preparation for Rosie the Riveter Day on March 21st. You don’t have to have garden experience to help just a desire to lend a helping hand! \nLight refreshments will be provided for volunteers. \nCome have a fun morning in the garden and learn more about how you can get involved. \n*Garden day will be subject to weather. \n  \n 
URL:https://vintageflyingmuseum.org/event/rosie-garden-day/
LOCATION:Vintage Flying Museum\, 505 NW 38th Street Hangar 33 South\, Fort Worth\, TX\, 76106\, United States
ORGANIZER;CN="VFM Events Organizer":MAILTO:events@vintageflyingmuseum.org
END:VEVENT
BEGIN:VEVENT
DTSTART;VALUE=DATE:20260123
DTEND;VALUE=DATE:20260126
DTSTAMP:20260421T175121
CREATED:20260123T020233Z
LAST-MODIFIED:20260123T020234Z
UID:1608-1769126400-1769385599@vintageflyingmuseum.org
SUMMARY:Museum Closed – Winter Storm (23-25 January)
DESCRIPTION:Due to the winter storm that will be impacting Texas\, the museum will be closed this weekend
URL:https://vintageflyingmuseum.org/event/museum-closed-winter-storm-23-25-january/
LOCATION:Vintage Flying Museum\, 505 NW 38th Street Hangar 33 South\, Fort Worth\, TX\, 76106\, United States
END:VEVENT
BEGIN:VEVENT
DTSTART;VALUE=DATE:20251021
DTEND;VALUE=DATE:20251022
DTSTAMP:20260421T175121
CREATED:20251021T135016Z
LAST-MODIFIED:20251021T135016Z
UID:1565-1761004800-1761091199@vintageflyingmuseum.org
SUMMARY:Museum Closed - October 25th\, 2025
DESCRIPTION:The Vintage Flying Museum will be closed due to a private event.
URL:https://vintageflyingmuseum.org/event/museum-closed-8-25-2025/
LOCATION:TX
END:VEVENT
BEGIN:VEVENT
DTSTART;TZID=America/Chicago:20251011T200000
DTEND;TZID=America/Chicago:20251011T233000
DTSTAMP:20260421T175121
CREATED:20250325T191330Z
LAST-MODIFIED:20251021T135226Z
UID:1495-1760212800-1760225400@vintageflyingmuseum.org
SUMMARY:33rd Annual Big Band Hangar Dance
DESCRIPTION:buy your tickets here! \n  \n\n\nSee pictures from last year’s dance HERE
URL:https://vintageflyingmuseum.org/event/33rd-annual-big-band-hangar-dance/
LOCATION:Vintage Flying Museum\, 505 NW 38th Street Hangar 33 South\, Fort Worth\, TX\, 76106\, United States
ORGANIZER;CN="VFM Events Organizer":MAILTO:events@vintageflyingmuseum.org
END:VEVENT
BEGIN:VEVENT
DTSTART;TZID=America/Chicago:20250524T090000
DTEND;TZID=America/Chicago:20250524T170000
DTSTAMP:20260421T175121
CREATED:20250404T123836Z
LAST-MODIFIED:20250404T123836Z
UID:1503-1748077200-1748106000@vintageflyingmuseum.org
SUMMARY:Warbird Ride Day May 2025
DESCRIPTION:Join us for a family-friendly event featuring warbird rides\, photo opportunities\, and warbird rides! Help us preserve aviation history and keep these iconic aircraft flying!\nMORE INFO TO COME!\nFollow along on Facebook: https://www.facebook.com/events/1177469560779622/ or Email events@vintageflyinmuseum.org or message us!
URL:https://vintageflyingmuseum.org/event/warbird-ride-day-may2025/
LOCATION:Vintage Flying Museum\, 505 NW 38th Street Hangar 33 South\, Fort Worth\, TX\, 76106\, United States
ORGANIZER;CN="VFM Events Organizer":MAILTO:events@vintageflyingmuseum.org
END:VEVENT
BEGIN:VEVENT
DTSTART;TZID=America/Chicago:20250425T193000
DTEND;TZID=America/Chicago:20250425T220000
DTSTAMP:20260421T175121
CREATED:20250408T171328Z
LAST-MODIFIED:20250408T171328Z
UID:1514-1745609400-1745618400@vintageflyingmuseum.org
SUMMARY:MOVIE NIGHT at the VFM! 25 April 2025
DESCRIPTION:Movie night screening of “Always (1989)”\nProceeds go to the CAF INVADER SQUADRON – Home to the A26 Invader “BUBA” and the VFM\n7:30PM after the social hour!\nFood and drinks available for purchase\nBring your own chair.
URL:https://vintageflyingmuseum.org/event/movie-night-at-the-vfm-25-april-2025/
LOCATION:Vintage Flying Museum\, 505 NW 38th Street Hangar 33 South\, Fort Worth\, TX\, 76106\, United States
ORGANIZER;CN="VFM Events Organizer":MAILTO:events@vintageflyingmuseum.org
END:VEVENT
BEGIN:VEVENT
DTSTART;TZID=America/Chicago:20250425T160000
DTEND;TZID=America/Chicago:20250425T190000
DTSTAMP:20260421T175121
CREATED:20250408T170752Z
LAST-MODIFIED:20250408T170752Z
UID:1512-1745596800-1745607600@vintageflyingmuseum.org
SUMMARY:Aviation Social Hour - 25 April 2025
DESCRIPTION:Meet fellow professionals and aviation enthusiasts at the quarterly VFM Aviation Social Hour\nSnacks and drinks provided\nStay after for a 7:30 screening of “Always” to benefit the CAF INVADER SQUADRON AND VFM!
URL:https://vintageflyingmuseum.org/event/aviation-social-hour-25-april-2025/
LOCATION:Vintage Flying Museum\, 505 NW 38th Street Hangar 33 South\, Fort Worth\, TX\, 76106\, United States
ORGANIZER;CN="VFM Events Organizer":MAILTO:events@vintageflyingmuseum.org
END:VEVENT
END:VCALENDAR